BEGIN:VCALENDAR
VERSION:2.0
PRODID:-//Wedstrijden Dames VU12-1
CALSCALE:GREGORIAN
METHOD:PUBLISH
X-WR-CALNAME:Wedstrijden Dames VU12-1
X-WR-CALDESC:Wedstrijden Dames VU12-1
BEGIN:VEVENT
UID:8d9a98d0-b1ce-4248-8c5d-a2c200e10d04
DTSTAMP:20260422T090002Z
DTSTART:20260125T110000Z
DTEND:20260125T130000Z
SUMMARY:Vlijmscherp SVH V12 1 - E.L.B.C. V12 1
LOCATION: Die Heygrave - Vlijmen
END:VEVENT
BEGIN:VEVENT
UID:17a8fa97-b053-421c-b004-6196cbbd4969
DTSTAMP:20260422T090002Z
DTSTART:20260221T171500Z
DTEND:20260221T191500Z
SUMMARY:Vlijmscherp SVH V12 1 - B.C. Virtus V12 1
LOCATION: Die Heygrave - Vlijmen
END:VEVENT
BEGIN:VEVENT
UID:a246ceeb-3f61-4523-9b51-8bf44cf18e60
DTSTAMP:20260422T090002Z
DTSTART:20260228T130000Z
DTEND:20260228T150000Z
SUMMARY:Vlijmscherp SVH V12 1 - B.O.B. V12 1
LOCATION: De Kubus - Heusden gem heusden
END:VEVENT
BEGIN:VEVENT
UID:25d76f1a-ba0a-4952-8aba-9f57deb9a786
DTSTAMP:20260422T090002Z
DTSTART:20260308T110000Z
DTEND:20260308T130000Z
SUMMARY:Vlijmscherp SVH V12 1 - Rotterdam Basketbal V12 1
LOCATION: Die Heygrave - Vlijmen
END:VEVENT
BEGIN:VEVENT
UID:5c2f484e-434d-47dc-95ae-f2c4534a3334
DTSTAMP:20260422T090002Z
DTSTART:20260314T090000Z
DTEND:20260314T110000Z
SUMMARY:E.L.B.C. V12 1 - Vlijmscherp SVH V12 1
LOCATION: Trivium - Etten-leur
END:VEVENT
BEGIN:VEVENT
UID:3c7aec71-e538-49c7-b9cd-71b4331aca27
DTSTAMP:20260422T090002Z
DTSTART:20260321T130000Z
DTEND:20260321T150000Z
SUMMARY:Green Eagles V12 1 - Vlijmscherp SVH V12 1
LOCATION: Wethouder Smithal - Maassluis
END:VEVENT
BEGIN:VEVENT
UID:a0e100a9-94fb-4d2a-bf19-c7dc3e3257e2
DTSTAMP:20260422T090002Z
DTSTART:20260328T093000Z
DTEND:20260328T113000Z
SUMMARY:B.O.B. V12 1 - Vlijmscherp SVH V12 1
LOCATION: Sporthal Carla de Liefde - Oud-beijerland
END:VEVENT
BEGIN:VEVENT
UID:df55675b-f985-488f-b520-64ef92797115
DTSTAMP:20260422T090002Z
DTSTART:20260404T113000Z
DTEND:20260404T133000Z
SUMMARY:B.C. Virtus V12 1 - Vlijmscherp SVH V12 1
LOCATION: De Crosser - Werkendam
END:VEVENT
BEGIN:VEVENT
UID:635d4e84-afa3-44b0-b757-2d4de51be3e3
DTSTAMP:20260422T090002Z
DTSTART:20260412T081500Z
DTEND:20260412T101500Z
SUMMARY:Vlijmscherp SVH V12 1 - Green Eagles V12 1
LOCATION: Die Heygrave - Vlijmen
END:VEVENT
BEGIN:VEVENT
UID:f4eda92a-b967-40c5-8dcc-d3b8100b46ec
DTSTAMP:20260422T090002Z
DTSTART:20260419T090000Z
DTEND:20260419T110000Z
SUMMARY:Rotterdam Basketbal V12 1 - Vlijmscherp SVH V12 1
LOCATION: Alexanderhal - Rotterdam
END:VEVENT
END:VCALENDAR
